BEGIN:VCALENDAR
VERSION:2.0
PRODID:-//Colorowdies Mountain Bike Crew - ECPv6.15.10//NONSGML v1.0//EN
CALSCALE:GREGORIAN
METHOD:PUBLISH
X-WR-CALNAME:Colorowdies Mountain Bike Crew
X-ORIGINAL-URL:https://beer.colorowdies.com
X-WR-CALDESC:Events for Colorowdies Mountain Bike Crew
REFRESH-INTERVAL;VALUE=DURATION:PT1H
X-Robots-Tag:noindex
X-PUBLISHED-TTL:PT1H
BEGIN:VTIMEZONE
TZID:America/Denver
BEGIN:DAYLIGHT
TZOFFSETFROM:-0700
TZOFFSETTO:-0600
TZNAME:MDT
DTSTART:20170312T090000
END:DAYLIGHT
BEGIN:STANDARD
TZOFFSETFROM:-0600
TZOFFSETTO:-0700
TZNAME:MST
DTSTART:20171105T080000
END:STANDARD
BEGIN:DAYLIGHT
TZOFFSETFROM:-0700
TZOFFSETTO:-0600
TZNAME:MDT
DTSTART:20180311T090000
END:DAYLIGHT
BEGIN:STANDARD
TZOFFSETFROM:-0600
TZOFFSETTO:-0700
TZNAME:MST
DTSTART:20181104T080000
END:STANDARD
BEGIN:DAYLIGHT
TZOFFSETFROM:-0700
TZOFFSETTO:-0600
TZNAME:MDT
DTSTART:20190310T090000
END:DAYLIGHT
BEGIN:STANDARD
TZOFFSETFROM:-0600
TZOFFSETTO:-0700
TZNAME:MST
DTSTART:20191103T080000
END:STANDARD
END:VTIMEZONE
BEGIN:VEVENT
DTSTART;TZID=America/Denver:20180310T180000
DTEND;TZID=America/Denver:20180310T210000
DTSTAMP:20260425T161909
CREATED:20180202T024804Z
LAST-MODIFIED:20180207T040557Z
UID:205150-1520704800-1520715600@beer.colorowdies.com
SUMMARY:Season Kickoff Party
DESCRIPTION:Each spring we kick off the mountain bike season with a rowdy party. This is an open invite and we welcome everyone from the local mountain bike community to join us for some ice cold Oskar Blues\, and to talk bikes with your riding buddies old and new. We share the Colorowdies vision for the upcoming season and introduce our new Ambassador Team. \nThis year we are stoked to bring the party to Oskar Blues Grill & Brew new Denver location in LoDo. We’ll get it going at 6:00 pm with some ice cold beers and paid food from their massive menu. This will be an open house style evening so arrive when you’d like and stay as long as you can. Live music hits the stage at 9 pm with Delta Sonics. Be sure to invite your riding buddies. We hope to see you there!
URL:https://beer.colorowdies.com/event/season-kickoff-party/
LOCATION:Oskar Blues – Denver\, 1624 Market St\, Denver\, CO\, 80202\, United States
CATEGORIES:Community
END:VEVENT
BEGIN:VEVENT
DTSTART;TZID=America/Denver:20180207T180000
DTEND;TZID=America/Denver:20180207T220000
DTSTAMP:20260425T161909
CREATED:20180124T061919Z
LAST-MODIFIED:20180201T012750Z
UID:204883-1518026400-1518040800@beer.colorowdies.com
SUMMARY:The Moment
DESCRIPTION:In the backwoods of British Columbia\, Canada\, three small but dedicated crews of adventure seekers were quietly changing the course of a sport and carving their paths in history. And it was all happening unbeknownst to each other\, the cycling world\, and ultimately\, themselves. \nThis film is the origin story of a small movement of mountain bikers and filmmakers who rose up\, challenged the status quo\, and turned the sport of cycling on its head. This is a story that has never been told\, told by the people who lived it firsthand.
URL:https://beer.colorowdies.com/event/the-moment/
LOCATION:The Oriental Theater\, 4335 W 44th Ave\, Denver\, 80212\, United States
CATEGORIES:Community
ATTACH;FMTTYPE=image/png:https://beer.colorowdies.com/wp-content/uploads/2018/01/themomentbanner-copy.png
END:VEVENT
END:VCALENDAR